BEGIN:VCALENDAR
VERSION:2.0
PRODID:-//Ride Boldly! - ECPv4.6.14.1//NONSGML v1.0//EN
CALSCALE:GREGORIAN
METHOD:PUBLISH
X-WR-CALNAME:Ride Boldly!
X-ORIGINAL-URL:http://www.rideboldly.org
X-WR-CALDESC:Events for Ride Boldly!
BEGIN:VEVENT
DTSTART;VALUE=DATE:20180615
DTEND;VALUE=DATE:20180623
DTSTAMP:20260421T072517
CREATED:20180422T003342Z
LAST-MODIFIED:20180422T003342Z
UID:2489-1529020800-1529711999@www.rideboldly.org
SUMMARY:2018 Tour of Minnesota
DESCRIPTION:39th annual bike ride\, formerly the Klobuchar Ride. \n\nWillmar June 15th\nMorris June 16th\nFergus Falls June 17th\nAlexandria June 18th and 19th\nLittle Falls June 20th\nSt. Cloud June 21st\nWillmar June 22nd\n\nThe registration cost includes meals on riding days\, 6Â breakfasts\, 6 lunches\, 5Â dinners\, snacks and beverages on riding days\,Â maps\, painted roads\, camping facilities\, showers\, gear transport to camping sites\, sag vehicle support\, bicycle repair service by Penn Cycle\, and a commemorative t-shirt by Innovative Graphics. Riders will pay for meals on the day offÂ and other items of interest along the route. \n
URL:http://www.rideboldly.org/event/2018-tour-of-minnesota/
LOCATION:2707 Arena Dr\, Willmar\, MN\, 56201\, United States
CATEGORIES:bike event,Greater Minnesota,Multi-Day Ride
END:VEVENT
END:VCALENDAR