BEGIN:VCALENDAR
VERSION:2.0
PRODID:-//Ride Boldly! - ECPv4.6.14.1//NONSGML v1.0//EN
CALSCALE:GREGORIAN
METHOD:PUBLISH
X-WR-CALNAME:Ride Boldly!
X-ORIGINAL-URL:http://www.rideboldly.org
X-WR-CALDESC:Events for Ride Boldly!
BEGIN:VEVENT
DTSTART;VALUE=DATE:20140622
DTEND;VALUE=DATE:20140623
DTSTAMP:20260421T043405
CREATED:20140514T163406Z
LAST-MODIFIED:20140514T163406Z
UID:2287-1403395200-1403481599@www.rideboldly.org
SUMMARY:Bears to Pedal Family Recreational Bike Ride
DESCRIPTION:Three route distances: \n  \n\n\na 4-mile Kiddy Ride\n\n\na 30-mile Intermediate Ride\n\n\na 46-mile Champions Ride\n\n\nPreregistration required. No day-of registration. \nRiders receive a shirt\, mouse pad or hat. \nBenefitsÂ The Childrenâ€™s Hospital Association â€“ White Bear Lake Guild. \n  \n
URL:http://www.rideboldly.org/event/bears-to-pedal-family-recreational-bike-ride/
LOCATION:3551 McKnight Road\, White Bear Lake\, MN\, United States
CATEGORIES:benefit ride,bike event,Kids Event,Twin Cities
END:VEVENT
END:VCALENDAR