BEGIN:VCALENDAR
VERSION:2.0
PRODID:-//Ride Boldly! - ECPv4.6.14.1//NONSGML v1.0//EN
CALSCALE:GREGORIAN
METHOD:PUBLISH
X-WR-CALNAME:Ride Boldly!
X-ORIGINAL-URL:http://www.rideboldly.org
X-WR-CALDESC:Events for Ride Boldly!
BEGIN:VEVENT
DTSTART;TZID=UTC-5:20140621T080000
DTEND;TZID=UTC-5:20140621T120000
DTSTAMP:20260421T031315
CREATED:20140514T154025Z
LAST-MODIFIED:20140514T154025Z
UID:2274-1403337600-1403352000@www.rideboldly.org
SUMMARY:Bike Bemidji: Loop the Lake Festival
DESCRIPTION:Travel the beautiful Lake Bemidji shoreline via the Westside Trail\, Birchmont Dr.\, Birchmont Beach Rd\, Lake Bemidji State Park\, and Paul Bunyan Trail. Stations on route include food\, music and activities. \n
URL:http://www.rideboldly.org/event/bike-bemidji-loop-the-lake-festival/
LOCATION:1111 Event Center Dr NE\, Bemidji\, MN\, 56601\, United States
CATEGORIES:benefit ride,bike event,Greater Minnesota
END:VEVENT
END:VCALENDAR