BEGIN:VCALENDAR
VERSION:2.0
PRODID:-//Ride Boldly! - ECPv4.6.14.1//NONSGML v1.0//EN
CALSCALE:GREGORIAN
METHOD:PUBLISH
X-WR-CALNAME:Ride Boldly!
X-ORIGINAL-URL:http://www.rideboldly.org
X-WR-CALDESC:Events for Ride Boldly!
BEGIN:VEVENT
DTSTART;TZID=UTC-5:20140710T193000
DTEND;TZID=UTC-5:20140710T210000
DTSTAMP:20260420T145700
CREATED:20140515T152032Z
LAST-MODIFIED:20140515T152032Z
UID:2330-1405020600-1405026000@www.rideboldly.org
SUMMARY:Bike Edina Task Force
DESCRIPTION:Meets the second Thursday of every month in the Mayorâ€™s conference room at Edina City Hall. \n
URL:http://www.rideboldly.org/event/bike-edina-task-force-2/
LOCATION:4801 W. 50th St.\, Edina\, MN\, United States
CATEGORIES:Advocacy Event,Twin Cities
END:VEVENT
END:VCALENDAR