BEGIN:VCALENDAR
VERSION:2.0
PRODID:-//Ride Boldly! - ECPv4.6.14.1//NONSGML v1.0//EN
CALSCALE:GREGORIAN
METHOD:PUBLISH
X-WR-CALNAME:Ride Boldly!
X-ORIGINAL-URL:http://www.rideboldly.org
X-WR-CALDESC:Events for Ride Boldly!
BEGIN:VEVENT
DTSTART;VALUE=DATE:20180715
DTEND;VALUE=DATE:20180721
DTSTAMP:20260421T054603
CREATED:20180422T185613Z
LAST-MODIFIED:20180422T185613Z
UID:2511-1531612800-1532131199@www.rideboldly.org
SUMMARY:Bike MS Ride Across Minnesota
DESCRIPTION:Starts in St. Peter\, MN on Sunday\, July 15 \n\nDay 1 (Monday\, July 16): St. Peter to Northfield\nDay 2 (Tuesday\, July 17): Northfield to Owatonna\nDay 3 (Wednesday\, July 18): Owatonna to Waseca\nDay 4 (Thursday\, July 19): Waseca to Mankato\nDay 5 (Friday\, July 20): Mankato to St. Peter\n\nTent camping each night. Option to pay for hotel in each location. \nFundraising minimum $300. Minimum age 12. Benefits MS Society. \n
URL:http://www.rideboldly.org/event/bike-ms-ride-across-minnesota/
LOCATION:511 S 5th Street\, St. Peter\, MN\, United States
CATEGORIES:benefit ride,bike event,Greater Minnesota,Multi-Day Ride
END:VEVENT
END:VCALENDAR