BEGIN:VCALENDAR
VERSION:2.0
PRODID:-//Ride Boldly! - ECPv4.6.14.1//NONSGML v1.0//EN
CALSCALE:GREGORIAN
METHOD:PUBLISH
X-WR-CALNAME:Ride Boldly!
X-ORIGINAL-URL:http://www.rideboldly.org
X-WR-CALDESC:Events for Ride Boldly!
BEGIN:VEVENT
DTSTART;VALUE=DATE:20180429
DTEND;VALUE=DATE:20180502
DTSTAMP:20260421T042845
CREATED:20180420T210023Z
LAST-MODIFIED:20180420T210023Z
UID:2395-1524960000-1525219199@www.rideboldly.org
SUMMARY:Bike+Walk Minnesota Conference
DESCRIPTION:The Bike+Walk Minnesota Conference is geared toward everyone interested in supporting and promoting biking and walking in Minnesota.Â Professionals and advocates from across Minnesota will come together and go beyond breakout sessions to explore connections between biking and walking\, discuss how communities are creating better public spaces for all users\, and address the open-ended question of what comes next for transportation and recreation options in the North Star State. \n
URL:http://www.rideboldly.org/event/bikewalk-minnesota-conference/
LOCATION:150 S Broadway\, Rochester\, MN\, 55904\, United States
CATEGORIES:Advocacy Event,Greater Minnesota
END:VEVENT
END:VCALENDAR