BEGIN:VCALENDAR
VERSION:2.0
PRODID:-//Ride Boldly! - ECPv4.6.14.1//NONSGML v1.0//EN
CALSCALE:GREGORIAN
METHOD:PUBLISH
X-WR-CALNAME:Ride Boldly!
X-ORIGINAL-URL:http://www.rideboldly.org
X-WR-CALDESC:Events for Ride Boldly!
BEGIN:VEVENT
DTSTART;TZID=UTC-5:20180908T080000
DTEND;TZID=UTC-5:20180908T160000
DTSTAMP:20260421T055913
CREATED:20180422T002902Z
LAST-MODIFIED:20180422T002902Z
UID:2486-1536393600-1536422400@www.rideboldly.org
SUMMARY:Caramel Apple Ride
DESCRIPTION:Hosted by the Lake Wobegon Trail Association. This family-friendly ride starts in Sauk Centre and offers two route options:\n1. East to Melrose\n2. West to Osakis \nThe Sauk Centre\, Osakis and Melrose stops will have refreshments and Caramel Apple treats. Be sure to check out the annual Moonshine Madness Celebration in Osakis. Ride proceeds go to promoting and improving the Lake Wobegon Trail. \n
URL:http://www.rideboldly.org/event/caramel-apple-ride/
LOCATION:1105 Ash St S\, Sauk Center\, MN\, 56378\, United States
CATEGORIES:bike event,Greater Minnesota,Kids Event
END:VEVENT
END:VCALENDAR