BEGIN:VCALENDAR
VERSION:2.0
PRODID:-//Ride Boldly! - ECPv4.6.14.1//NONSGML v1.0//EN
CALSCALE:GREGORIAN
METHOD:PUBLISH
X-WR-CALNAME:Ride Boldly!
X-ORIGINAL-URL:http://www.rideboldly.org
X-WR-CALDESC:Events for Ride Boldly!
BEGIN:VEVENT
DTSTART;VALUE=DATE:20140626
DTEND;VALUE=DATE:20140627
DTSTAMP:20260421T055345
CREATED:20140514T164850Z
LAST-MODIFIED:20140514T164850Z
UID:2290-1403740800-1403827199@www.rideboldly.org
SUMMARY:Cottage Grove Bike Park Grand Opening
DESCRIPTION:The official opening of phase one of the new Cottage Grove Bike Park\, 4x course and 2 pump track. \n  \n
URL:http://www.rideboldly.org/event/cottage-grove-bike-park-grand-opening/
LOCATION:7050 Meadow Grass Ave\, Cottage Grove\, MN\, 55016\, United States
CATEGORIES:bike event,MTB event,Twin Cities
END:VEVENT
END:VCALENDAR