BEGIN:VCALENDAR
VERSION:2.0
PRODID:-//Ride Boldly! - ECPv4.6.14.1//NONSGML v1.0//EN
CALSCALE:GREGORIAN
METHOD:PUBLISH
X-WR-CALNAME:Ride Boldly!
X-ORIGINAL-URL:http://www.rideboldly.org
X-WR-CALDESC:Events for Ride Boldly!
BEGIN:VEVENT
DTSTART;TZID=UTC-5:20140615T080000
DTEND;TZID=UTC-5:20140615T170000
DTSTAMP:20260421T043029
CREATED:20140514T142133Z
LAST-MODIFIED:20140514T170204Z
UID:2249-1402819200-1402851600@www.rideboldly.org
SUMMARY:Falls Festival on Foot (Open Streets)
DESCRIPTION:An Open Streets event in Little Falls\, Minnesota. \n
URL:http://www.rideboldly.org/event/falls-festival-on-foot-open-streets/
LOCATION:Little Falls\, MN\, United States
CATEGORIES:Greater Minnesota,open streets
END:VEVENT
END:VCALENDAR