BEGIN:VCALENDAR
VERSION:2.0
PRODID:-//Ride Boldly! - ECPv4.6.14.1//NONSGML v1.0//EN
CALSCALE:GREGORIAN
METHOD:PUBLISH
X-WR-CALNAME:Ride Boldly!
X-ORIGINAL-URL:http://www.rideboldly.org
X-WR-CALDESC:Events for Ride Boldly!
BEGIN:VEVENT
DTSTART;TZID=UTC-5:20140704T071500
DTEND;TZID=UTC-5:20140704T120000
DTSTAMP:20260420T132316
CREATED:20140515T144526Z
LAST-MODIFIED:20140515T144526Z
UID:2311-1404458100-1404475200@www.rideboldly.org
SUMMARY:Great Scott 50
DESCRIPTION:Mass start at 8 AM. Two route distances: 20 miles or 50 miles through rural Scott County. Support provided\, plus rest stops and a lunch. \n  \n
URL:http://www.rideboldly.org/event/great-scott-50/
LOCATION:Prior Lake\, MN\, United States
CATEGORIES:bike event,Twin Cities
END:VEVENT
END:VCALENDAR