BEGIN:VCALENDAR
VERSION:2.0
PRODID:-//Ride Boldly! - ECPv4.6.14.1//NONSGML v1.0//EN
CALSCALE:GREGORIAN
METHOD:PUBLISH
X-WR-CALNAME:Ride Boldly!
X-ORIGINAL-URL:http://www.rideboldly.org
X-WR-CALDESC:Events for Ride Boldly!
BEGIN:VEVENT
DTSTART;TZID=UTC-5:20140614T210000
DTEND;TZID=UTC-5:20140614T210000
DTSTAMP:20260420T213108
CREATED:20140514T152650Z
LAST-MODIFIED:20140514T152650Z
UID:2266-1402779600-1402779600@www.rideboldly.org
SUMMARY:Greenway Glow
DESCRIPTION:A night-time bike ride to raise funds for the Midtown Greenway. The Glow ride goes from 9:01 p.m. – 1:00 a.m.\, with a post-ride “AfterGlow” party that starts at 11:00 p.m. on the patio of the Sheraton Midtown\, hosted by the Great Room Restaurant and New Belgium Brewing. Routes of 5\, 7 or 10 miles. $50 in pledges required. \n
URL:http://www.rideboldly.org/event/greenway-glow/
LOCATION:2834 10th Ave. S.\, Minneapolis\, MN\, United States
CATEGORIES:benefit ride,bike event,Twin Cities
END:VEVENT
END:VCALENDAR