BEGIN:VCALENDAR
VERSION:2.0
PRODID:-//Ride Boldly! - ECPv4.6.14.1//NONSGML v1.0//EN
CALSCALE:GREGORIAN
METHOD:PUBLISH
X-WR-CALNAME:Ride Boldly!
X-ORIGINAL-URL:http://www.rideboldly.org
X-WR-CALDESC:Events for Ride Boldly!
BEGIN:VEVENT
DTSTART;TZID=UTC-5:20180922T070000
DTEND;TZID=UTC-5:20180922T180000
DTSTAMP:20260421T071920
CREATED:20180514T021816Z
LAST-MODIFIED:20180514T021816Z
UID:2552-1537599600-1537639200@www.rideboldly.org
SUMMARY:Headwaters 100
DESCRIPTION:Routes of 45\, 75 and 100 miles near the Mississippi Headwaters. Longer routes pass throughÂ Itasca State Park\, and use the Heartland State Trail. Registration includes rest stops and support; register before September 16 for t-shirt. \n
URL:http://www.rideboldly.org/event/headwaters-100/
LOCATION:501 Helten Ave\, Park Rapids\, MN\, 56470\, United States
CATEGORIES:bike event,Greater Minnesota
END:VEVENT
END:VCALENDAR