BEGIN:VCALENDAR
VERSION:2.0
PRODID:-//Ride Boldly! - ECPv4.6.14.1//NONSGML v1.0//EN
CALSCALE:GREGORIAN
METHOD:PUBLISH
X-WR-CALNAME:Ride Boldly!
X-ORIGINAL-URL:http://www.rideboldly.org
X-WR-CALDESC:Events for Ride Boldly!
BEGIN:VEVENT
DTSTART;VALUE=DATE:20140802
DTEND;VALUE=DATE:20140803
DTSTAMP:20260421T042526
CREATED:20140518T014539Z
LAST-MODIFIED:20140518T014627Z
UID:2352-1406937600-1407023999@www.rideboldly.org
SUMMARY:Mesabi Trail Bike Tour 
DESCRIPTION:New 2014 routeÂ from Fayal Township (near Eveleth) to Coleraine (near Grand Rapids). \n\nFour routes — 69 miles\, 53 miles\, 33 miles or 12 miles\nPicnic dinner\nT-shirt\nTrail pass\nTransport for riders and bicycles\nRest stops\nGroup discounts available for clubs\, Scout troops and other organizations riding together.\n\nCharitable proceeds will be donated to Ampers – “Diverse Radio for Minnesota’s Communities” and the Mesabi Trail. \n
URL:http://www.rideboldly.org/event/mesabi-trail-bike-tour/
LOCATION:Coleraine\, MN\, United States
CATEGORIES:benefit ride,bike event,Greater Minnesota
ORGANIZER;CN="Club%20Mesabi":MAILTO:http://www.mesabitrail.com
END:VEVENT
END:VCALENDAR