BEGIN:VCALENDAR
VERSION:2.0
PRODID:-//Ride Boldly! - ECPv4.6.14.1//NONSGML v1.0//EN
CALSCALE:GREGORIAN
METHOD:PUBLISH
X-WR-CALNAME:Ride Boldly!
X-ORIGINAL-URL:http://www.rideboldly.org
X-WR-CALDESC:Events for Ride Boldly!
BEGIN:VEVENT
DTSTART;TZID=UTC-5:20180428T140000
DTEND;TZID=UTC-5:20180428T180000
DTSTAMP:20260420T150033
CREATED:20180420T205626Z
LAST-MODIFIED:20180420T205626Z
UID:2393-1524924000-1524938400@www.rideboldly.org
SUMMARY:Midtown Greenway Coalition Annual Meeting
DESCRIPTION:The Midtown Greenway Coalition is holding its first-ever annual meeting on wheels.Â The event is free and will feature a tour of the Greenway. The rideÂ will start near the Mississippi River and give an update on efforts to Extend the Greenway. The ride will also visit additional locations to discuss past\, current\, and upcoming projects\, including a new ramp at 35W and plans for an extensive wayfinding system for the Greenway. \n
URL:http://www.rideboldly.org/event/midtown-greenway-coalition-annual-meeting/
LOCATION:Minneapolis\, MN\, 55406\, United States
CATEGORIES:Advocacy Event,bike event,Twin Cities
END:VEVENT
END:VCALENDAR