BEGIN:VCALENDAR
VERSION:2.0
PRODID:-//Ride Boldly! - ECPv4.6.14.1//NONSGML v1.0//EN
CALSCALE:GREGORIAN
METHOD:PUBLISH
X-WR-CALNAME:Ride Boldly!
X-ORIGINAL-URL:http://www.rideboldly.org
X-WR-CALDESC:Events for Ride Boldly!
BEGIN:VEVENT
DTSTART;TZID=UTC-5:20180915T064500
DTEND;TZID=UTC-5:20180915T170000
DTSTAMP:20260421T055907
CREATED:20180514T013506Z
LAST-MODIFIED:20180514T021045Z
UID:2547-1536993900-1537030800@www.rideboldly.org
SUMMARY:Ride the Ridges
DESCRIPTION:Sponsored by the Winona Rotary Club.Â Choose one of four routes – 23\, 44\, 67 and 100 miles. Open start between 7:00-9:00AM. Free showers after the ride available at the Middle School. \nAll routes offer at least one significant climb. \nCosts available after June 1. \n
URL:http://www.rideboldly.org/event/ride-the-ridges/
LOCATION:1570 Homer Road\, Winona\, MN\, United States
CATEGORIES:benefit ride,bike event,Greater Minnesota
ORGANIZER;CN="Winona%20Rotary%20Club":MAILTO:mdbernatz@hbci.com
END:VEVENT
END:VCALENDAR