BEGIN:VCALENDAR
VERSION:2.0
PRODID:-//Ride Boldly! - ECPv4.6.14.1//NONSGML v1.0//EN
CALSCALE:GREGORIAN
METHOD:PUBLISH
X-WR-CALNAME:Ride Boldly!
X-ORIGINAL-URL:http://www.rideboldly.org
X-WR-CALDESC:Events for Ride Boldly!
BEGIN:VEVENT
DTSTART;TZID=UTC-5:20140621T070000
DTEND;TZID=UTC-5:20140621T160000
DTSTAMP:20260420T145954
CREATED:20140514T161255Z
LAST-MODIFIED:20140514T161255Z
UID:2284-1403334000-1403366400@www.rideboldly.org
SUMMARY:Rotary Ride for Cleaner Water
DESCRIPTION:Supports Rotary International water projects. \n\n7\, 16\, 30 or 54 mile routes\n$50 minimum pledge per individual\, $100 per family of riders\nPre-registered riders receive a t-shirt\n\n
URL:http://www.rideboldly.org/event/rotary-ride-for-cleaner-water/
LOCATION:31095 Government Drive\, Pequot Lakes\, 56472\, United States
CATEGORIES:benefit ride,bike event,Greater Minnesota
END:VEVENT
END:VCALENDAR