BEGIN:VCALENDAR
VERSION:2.0
PRODID:-//Ride Boldly! - ECPv4.6.14.1//NONSGML v1.0//EN
CALSCALE:GREGORIAN
METHOD:PUBLISH
X-WR-CALNAME:Ride Boldly!
X-ORIGINAL-URL:http://www.rideboldly.org
X-WR-CALDESC:Events for Ride Boldly!
BEGIN:VEVENT
DTSTART;TZID=UTC-5:20140614T070000
DTEND;TZID=UTC-5:20140614T160000
DTSTAMP:20260420T145923
CREATED:20140514T145334Z
LAST-MODIFIED:20140514T145334Z
UID:2260-1402729200-1402761600@www.rideboldly.org
SUMMARY:Rushford NanoTek Trek
DESCRIPTION:A part of Rushford-Peterson HS’s Nano/Emerging Technology Day. Routes of 10-50 miles along the Bluffs\, with family rides on the Root River Trail. \n
URL:http://www.rideboldly.org/event/rushford-nanotek-trek/
LOCATION:102 N Mill St. \, Rushford\, MN\, United States
CATEGORIES:benefit ride,bike event,expo,Greater Minnesota,Kids Event
END:VEVENT
END:VCALENDAR