BEGIN:VCALENDAR
VERSION:2.0
PRODID:-//Ride Boldly! - ECPv4.6.14.1//NONSGML v1.0//EN
CALSCALE:GREGORIAN
METHOD:PUBLISH
X-WR-CALNAME:Ride Boldly!
X-ORIGINAL-URL:http://www.rideboldly.org
X-WR-CALDESC:Events for Ride Boldly!
BEGIN:VEVENT
DTSTART;VALUE=DATE:20140628
DTEND;VALUE=DATE:20140629
DTSTAMP:20260420T145611
CREATED:20140514T165318Z
LAST-MODIFIED:20140514T165318Z
UID:2293-1403913600-1403999999@www.rideboldly.org
SUMMARY:Shooting Star Trail Ride
DESCRIPTION:A ride to promote\, support and share the Shooting Star Trail. \n\nRoutes of 4\, 20\, 40\, 50\, 62 and 100 miles\nNo charge/no shirt for 4-mile ride\nAll other riders must register\n\nThe communities of LeRoy\, Taopi\, Adams and Rose Creek are working together to host this event. \n
URL:http://www.rideboldly.org/event/shooting-star-trail-ride/
LOCATION:LeRoy\, MN\, United States
CATEGORIES:benefit ride,bike event,Greater Minnesota
ORGANIZER;CN="Shooting%20Star%20Trail%20Organization":MAILTO:http://shootingstartrail.org/
END:VEVENT
END:VCALENDAR