BEGIN:VCALENDAR
VERSION:2.0
PRODID:-//Ride Boldly! - ECPv4.6.14.1//NONSGML v1.0//EN
CALSCALE:GREGORIAN
METHOD:PUBLISH
X-WR-CALNAME:Ride Boldly!
X-ORIGINAL-URL:http://www.rideboldly.org
X-WR-CALDESC:Events for Ride Boldly!
BEGIN:VEVENT
DTSTART;TZID=UTC-5:20140513T190000
DTEND;TZID=UTC-5:20140513T203000
DTSTAMP:20260420T132339
CREATED:20140512T224049Z
LAST-MODIFIED:20140514T151035Z
UID:2179-1400007600-1400013000@www.rideboldly.org
SUMMARY:St. Paul Bicycle Coalition Meeting
DESCRIPTION:The Saint Paul Bicycle Coalition meets on the second Tuesday of each month. \n
URL:http://www.rideboldly.org/event/spbc-meeting/
LOCATION:270 Lexington Pkwy N\, St. Paul\, MN\, 55104\, United States
CATEGORIES:Advocacy Event,Twin Cities
END:VEVENT
END:VCALENDAR