BEGIN:VCALENDAR
VERSION:2.0
PRODID:-//Ride Boldly! - ECPv4.6.14.1//NONSGML v1.0//EN
CALSCALE:GREGORIAN
METHOD:PUBLISH
X-WR-CALNAME:Ride Boldly!
X-ORIGINAL-URL:http://www.rideboldly.org
X-WR-CALDESC:Events for Ride Boldly!
BEGIN:VEVENT
DTSTART;VALUE=DATE:20180909
DTEND;VALUE=DATE:20180910
DTSTAMP:20260421T055308
CREATED:20180420T204904Z
LAST-MODIFIED:20180420T204904Z
UID:2390-1536451200-1536537599@www.rideboldly.org
SUMMARY:St. Paul Classic Bike Tour
DESCRIPTION:The 24th annual Saint Paul Classic Bike Tour featuresÂ three classic routes: 15\, 33\, or 48 miles.Â The Saint Paul Classic Bike Tour is a fundraiser for the Bicycle Alliance of Minnesota. All fees are non-refundable. Registration transfers are not available. T-shirts available for an added fee. \n
URL:http://www.rideboldly.org/event/st-paul-classic-bike-tour-2/
LOCATION:St. Paul\, MN\, United States
CATEGORIES:benefit ride,bike event,Twin Cities
END:VEVENT
END:VCALENDAR