BEGIN:VCALENDAR
VERSION:2.0
PRODID:-//Ride Boldly! - ECPv4.6.14.1//NONSGML v1.0//EN
CALSCALE:GREGORIAN
METHOD:PUBLISH
X-WR-CALNAME:Ride Boldly!
X-ORIGINAL-URL:http://www.rideboldly.org
X-WR-CALDESC:Events for Ride Boldly!
BEGIN:VEVENT
DTSTART;TZID=UTC-5:20140619T190000
DTEND;TZID=UTC-5:20140619T213000
DTSTAMP:20260420T132341
CREATED:20140514T152928Z
LAST-MODIFIED:20140514T152928Z
UID:2269-1403204400-1403213400@www.rideboldly.org
SUMMARY:Thursday Night Lights
DESCRIPTION:Every Thursday night at the NSC Velodrome. Short-track racing\, raffles and fun. \n
URL:http://www.rideboldly.org/event/thursday-night-lights-5/
LOCATION:1700-105th Ave. NE\, Blaine\, MN\, United States
CATEGORIES:Bicycle Race,Twin Cities
END:VEVENT
END:VCALENDAR