BEGIN:VCALENDAR
VERSION:2.0
PRODID:-//Ride Boldly! - ECPv4.6.14.1//NONSGML v1.0//EN
CALSCALE:GREGORIAN
METHOD:PUBLISH
X-WR-CALNAME:Ride Boldly!
X-ORIGINAL-URL:http://www.rideboldly.org
X-WR-CALDESC:Events for Ride Boldly!
BEGIN:VEVENT
DTSTART;TZID=UTC-5:20140704T080000
DTEND;TZID=UTC-5:20140704T153000
DTSTAMP:20260421T041328
CREATED:20140515T144941Z
LAST-MODIFIED:20140515T144941Z
UID:2314-1404460800-1404487800@www.rideboldly.org
SUMMARY:Tour D'Amico
DESCRIPTION:Routes of 29\, 45 or 62.2 miles. Full SAG support\, rest stops and a buffet lunch post-ride. Large-print maps. \n
URL:http://www.rideboldly.org/event/tour-damico/
LOCATION:7804 Olson Memorial Hwy\, Golden Valley\, MN\, 55427\, United States
CATEGORIES:bike event,Twin Cities
END:VEVENT
END:VCALENDAR