BEGIN:VCALENDAR
VERSION:2.0
PRODID:-//Ride Boldly! - ECPv4.6.14.1//NONSGML v1.0//EN
CALSCALE:GREGORIAN
METHOD:PUBLISH
X-WR-CALNAME:Ride Boldly!
X-ORIGINAL-URL:http://www.rideboldly.org
X-WR-CALDESC:Events for Ride Boldly!
BEGIN:VEVENT
DTSTART;TZID=UTC-5:20180818T063000
DTEND;TZID=UTC-5:20180818T170000
DTSTAMP:20260421T072212
CREATED:20180513T202252Z
LAST-MODIFIED:20180513T202252Z
UID:2544-1534573800-1534611600@www.rideboldly.org
SUMMARY:Tour de Pines
DESCRIPTION:10th Anniversary Ride! Ride through Itasca State Park and the surrounding roads. In-Park routes of 15 and 25 miles\, Â a mid-route of 50-70 miles and a 100-mile option. Includes rest stops and a post-ride taco buffet. \nBenefits Hostelling International Minnesota. Lodging available atÂ HI Mississippi Headwaters Hostel\, in Itasca State Park. \n
URL:http://www.rideboldly.org/event/tour-de-pines-2/
LOCATION:27910 Forest Lane\, Park Rapids\, MN\, United States
CATEGORIES:benefit ride,bike event,Greater Minnesota
END:VEVENT
END:VCALENDAR