BEGIN:VCALENDAR
VERSION:2.0
PRODID:-//Ride Boldly! - ECPv4.6.14.1//NONSGML v1.0//EN
CALSCALE:GREGORIAN
METHOD:PUBLISH
X-WR-CALNAME:Ride Boldly!
X-ORIGINAL-URL:http://www.rideboldly.org
X-WR-CALDESC:Events for Ride Boldly!
BEGIN:VEVENT
DTSTART;VALUE=DATE:20140607
DTEND;VALUE=DATE:20140608
DTSTAMP:20260420T150125
CREATED:20140513T182232Z
LAST-MODIFIED:20140514T151155Z
UID:2212-1402099200-1402185599@www.rideboldly.org
SUMMARY:Tour of Lakes
DESCRIPTION:Annual bike event run by Paul Bunyan Cyclists. \n\nStart/Finish in Baxter\, MN\nRoutes of approximately 35 or 65 miles\nRevenues support cycling in Brainerd and surrounding areas\nMandatory pre-registration by May 1; limit of 1\,200 cyclists\n\n
URL:http://www.rideboldly.org/event/tour-of-lakes/
LOCATION:12149 Knollwood Drive\, Baxter\, MN\, 56425\, United States
CATEGORIES:bike event,Greater Minnesota
END:VEVENT
END:VCALENDAR