BEGIN:VCALENDAR
VERSION:2.0
PRODID:-//Ride Boldly! - ECPv4.6.14.1//NONSGML v1.0//EN
CALSCALE:GREGORIAN
METHOD:PUBLISH
X-WR-CALNAME:Ride Boldly!
X-ORIGINAL-URL:http://www.rideboldly.org
X-WR-CALDESC:Events for Ride Boldly!
BEGIN:VEVENT
DTSTART;VALUE=DATE:20180708
DTEND;VALUE=DATE:20180709
DTSTAMP:20260421T042246
CREATED:20180420T204554Z
LAST-MODIFIED:20180420T204554Z
UID:2389-1531008000-1531094399@www.rideboldly.org
SUMMARY:Tour of Saints
DESCRIPTION:38th annual Tour of Saints\, in St. Joseph. Routes of 18\, 35 and 50 miles. Option to add lodging at College of St. Benedict for evening before; added cost. \n
URL:http://www.rideboldly.org/event/tour-of-saints-2/
LOCATION:31802 County Road 159\, Collegeville\, MN\, United States
CATEGORIES:benefit ride,Greater Minnesota
END:VEVENT
END:VCALENDAR